BEGIN:VCALENDAR
VERSION:2.0
PRODID:-//ChamberMaster//Event Calendar 2.0//EN
METHOD:PUBLISH
X-PUBLISHED-TTL:P3D
REFRESH-INTERVAL:P3D
CALSCALE:GREGORIAN
BEGIN:VEVENT
DTSTART:20100701T220000Z
DTEND:20100702T000000Z
X-MICROSOFT-CDO-ALLDAYEVENT:FALSE
SUMMARY:Business After Hours at the DoubleTree Hotel Chicago/Schaumb
DESCRIPTION:Come and network  with your SBA friends at the DoubleTree Hotel in Schaumburg. Complimentary Food and Beverages will be served. FREE to attend if you are an SBA Member! Just bring plenty of business cards to network.Advanced reservations are always appreciated.
X-ALT-DESC;FMTTYPE=text/html:<DIV align=center><STRONG><FONT color=#004080>Come and network&nbsp\; with your SBA friends at&nbsp\;the&nbsp\;DoubleTree Hotel&nbsp\;in Schaumburg. </FONT></STRONG></DIV><P align=center><STRONG><FONT color=#004080>Complimentary Food and Beverages will be served. </FONT></STRONG></P><P align=center><STRONG><FONT color=#004080>FREE to attend if you are an SBA Member! Just bring plenty of business cards to network.</FONT></STRONG></P><P align=center><STRONG><FONT color=#004080>Advanced reservations are always appreciated.</FONT></STRONG></P>
LOCATION:DoubleTree Hotel Chicago/Schaumburg
UID:e.9129.216
SEQUENCE:3
DTSTAMP:20260425T140653Z
URL:http://schaumburgbusiness.memberzone.com/events/details/business-after-hours-at-the-doubletree-hotel-chicago-schaumb-07-01-2010-216
END:VEVENT

END:VCALENDAR
