BEGIN:VCALENDAR
VERSION:2.0
PRODID:-//ChamberMaster//Event Calendar 2.0//EN
METHOD:PUBLISH
X-PUBLISHED-TTL:P3D
REFRESH-INTERVAL:P3D
CALSCALE:GREGORIAN
BEGIN:VEVENT
DTSTART:20100827T130000Z
DTEND:20100827T143000Z
X-MICROSOFT-CDO-ALLDAYEVENT:FALSE
SUMMARY:Business Institute 2010 Program III- Choose Your World View
DESCRIPTION:Schaumburg Business Association Business Institute 2010 Business Institute 2010 is a four part program that focuses on improving behaviors and attitudes to achieve the maximum results for your business. The Institute is designed to help individuals who truly have the desire to exceed goals and improve their bottom line. August 27\, 2010 Program III\nChoose Your World View In Program III you will discover what your attitude actually “is” and “is not”.  Learn how to use skills to develop a positive attitude and winning mindset.  By the end of this session you will feel more energy and have strategies in order to wake up everyday at a high performance level.  November 12\, 2010 Program IVAchieve More in Less Time Have you ever said\, “There’s just not enough time in a day.”  Managing your time effectively is the key to success.  Learn how to get the most out of every minute of the day and schedule time to achieve your goals.  Managing your time effectively will allow you to get more done AND have time left over to enjoy what’s meaningful to you.
X-ALT-DESC;FMTTYPE=text/html:<DIV style='FONT-FAMILY: Arial'><P class=MsoNormal style='MARGIN: 0in 0in 0pt'><B style='mso-bidi-font-weight: normal'><U><SPAN style='TEXT-TRANSFORM: uppercase\; COLOR: #003399\; FONT-FAMILY: 'Baskerville Old Face'\; mso-bidi-font-family: Arial'>Schaumburg Business Association&nbsp\;Business Institute 2010</SPAN></U></B></P><P class=MsoNormal style='MARGIN: 0in 0in 0pt'><SPAN style='FONT-SIZE: 11pt\; FONT-FAMILY: Arial'><xml:namespace prefix = o ns = 'urn:schemas-microsoft-com:office:office' /><o:p>&nbsp\;</o:p></SPAN></P><P class=MsoNormal style='MARGIN: 0in 0in 0pt'><B style='mso-bidi-font-weight: normal'><SPAN style='FONT-SIZE: 11pt\; FONT-FAMILY: 'Baskerville Old Face'\; mso-bidi-font-family: Arial'>Business&nbsp\;Institute 2010 is a four part program that focuses on improving behaviors and attitudes to achieve the maximum results for your business. The Institute is designed to help individuals who truly</SPAN></B><SPAN style='FONT-SIZE: 11pt\; FONT-FAMILY: 'Baskerville Old Face'\; mso-bidi-font-family: Arial'> <B style='mso-bidi-font-weight: normal'>have the desire to exceed goals and improve their bottom line.</B></SPAN></P><P class=MsoNormal style='MARGIN: 0in 0in 0pt'>&nbsp\;</P><P class=MsoNormal style='MARGIN: 0in 0in 0pt'><STRONG><FONT face='Times New Roman'>August 27<xml:namespace prefix = st1 ns = 'urn:schemas-microsoft-com:office:smarttags' /><st1:PersonName w:st='on'>\,</st1:PersonName> 2010 Program III</FONT></STRONG><B><BR><STRONG><FONT face='Times New Roman'>Choose Your World View</FONT></STRONG></B></P><P class=MsoNormal style='MARGIN: 0in 0in 0pt'><o:p><FONT face='Times New Roman'>&nbsp\;</FONT></o:p></P><P class=MsoNormal style='MARGIN: 0in 0in 0pt'><FONT face='Times New Roman'>In&nbsp\;Program III&nbsp\;you will&nbsp\;discover what your attitude actually “is” and “is not”.&nbsp\; Learn how to&nbsp\;use&nbsp\;skills to&nbsp\;develop a positive attitude and winning mindset.<SPAN style='mso-spacerun: yes'>&nbsp\; </SPAN>By the end of this session&nbsp\;you will feel more energy and have strategies in order to wake up everyday at a high performance level.</FONT></P><P class=MsoNormal style='MARGIN: 0in 0in 0pt'><STRONG><o:p><FONT face='Times New Roman'>&nbsp\;</FONT></o:p></STRONG></P><P class=MsoNormal style='MARGIN: 0in 0in 0pt'><STRONG><o:p><FONT face='Times New Roman'>&nbsp\;</FONT></o:p></STRONG></P><P class=MsoNormal style='MARGIN: 0in 0in 0pt'><STRONG><FONT face='Times New Roman'>November 12\, 2010 Program IV<o:p></o:p></FONT></STRONG></P><P class=MsoNormal style='MARGIN: 0in 0in 0pt'><B style='mso-bidi-font-weight: normal'><FONT face='Times New Roman'>Achieve More in Less Time<o:p></o:p></FONT></B></P><P class=MsoNormal style='MARGIN: 0in 0in 0pt'><SPAN style='FONT-FAMILY: 'Baskerville Old Face''><o:p>&nbsp\;</o:p></SPAN></P><P class=MsoNormal style='MARGIN: 0in 0in 0pt'><FONT face='Times New Roman'>Have you ever said<st1:PersonName w:st='on'>\,</st1:PersonName> “There’s just not enough time in a day.”<SPAN style='mso-spacerun: yes'>&nbsp\; </SPAN>Managing your time effectively is the key to success.<SPAN style='mso-spacerun: yes'>&nbsp\; </SPAN>Learn how to get the most out of every minute of the day and schedule time to achieve your goals.<SPAN style='mso-spacerun: yes'>&nbsp\; </SPAN>Managing your time effectively will allow you to get more done AND have time left over to enjoy what’s meaningful to you.</FONT></P><P class=MsoNormal style='MARGIN: 0in 0in 0pt'>&nbsp\;</P></DIV>
LOCATION:The Schaumburg Corporate Center
UID:e.9129.180
SEQUENCE:3
DTSTAMP:20260425T121729Z
URL:http://schaumburgbusiness.memberzone.com/events/details/business-institute-2010-program-iii-choose-your-world-view-08-27-2010-180
END:VEVENT

END:VCALENDAR
