BEGIN:VCALENDAR
VERSION:2.0
PRODID:-//ChamberMaster//Event Calendar 2.0//EN
METHOD:PUBLISH
X-PUBLISHED-TTL:P3D
REFRESH-INTERVAL:P3D
CALSCALE:GREGORIAN
BEGIN:VEVENT
DTSTART:20121218T133000Z
DTEND:20121218T150000Z
X-MICROSOFT-CDO-ALLDAYEVENT:FALSE
SUMMARY:Good Morning Schaumburg - Annual Holiday Meeting
DESCRIPTION:Good Morning Schaumburg Holiday Edition!!!!!!!! Come out to enjoy a GREAT breakfast and AWESOME program at  Chicago Improv of Schaumburg         Please make your reservation early and contact the SBA offices at 847.413.1010
X-ALT-DESC;FMTTYPE=text/html:<DIV style='FONT-FAMILY: Arial'><P style='TEXT-ALIGN: center\; LINE-HEIGHT: normal\; MARGIN: 0in 0in 6pt' class=MsoNormal align=center><B><SPAN style='FONT-FAMILY: 'Arial'\,'sans-serif'\; COLOR: #002060\; FONT-SIZE: 14pt\; mso-fareast-font-family: 'Times New Roman''>Good Morning Schaumburg Holiday Edition!!!!!!!!<xml:namespace prefix = o ns = 'urn:schemas-microsoft-com:office:office' /><o:p></o:p></SPAN></B></P><P style='TEXT-ALIGN: center\; LINE-HEIGHT: normal\; MARGIN: 0in 0in 0pt' class=MsoNormal align=center><SPAN style='FONT-FAMILY: 'Arial'\,'sans-serif'\; COLOR: #002060\; FONT-SIZE: 14pt\; mso-fareast-font-family: 'Times New Roman''><EM><FONT size=5></FONT></EM></SPAN>&nbsp\;</P><P style='TEXT-ALIGN: center\; LINE-HEIGHT: normal\; MARGIN: 0in 0in 0pt' class=MsoNormal align=center><SPAN style='FONT-FAMILY: 'Arial'\,'sans-serif'\; COLOR: #002060\; FONT-SIZE: 14pt\; mso-fareast-font-family: 'Times New Roman''><EM><FONT size=5>Come out to enjoy a GREAT breakfast and AWESOME program at </FONT></EM></SPAN></P><P style='TEXT-ALIGN: center\; LINE-HEIGHT: normal\; MARGIN: 0in 0in 0pt' class=MsoNormal align=center><SPAN style='FONT-FAMILY: 'Arial'\,'sans-serif'\; COLOR: #002060\; FONT-SIZE: 14pt\; mso-fareast-font-family: 'Times New Roman''><EM><FONT size=5></FONT></EM></SPAN>&nbsp\;</P><P style='TEXT-ALIGN: center\; LINE-HEIGHT: normal\; MARGIN: 0in 0in 0pt' class=MsoNormal align=center><SPAN style='FONT-FAMILY: 'Arial'\,'sans-serif'\; COLOR: #002060\; FONT-SIZE: 14pt\; mso-fareast-font-family: 'Times New Roman''><EM><FONT size=5>Chicago Improv of Schaumburg&nbsp\;</FONT></EM></SPAN></P><P style='TEXT-ALIGN: center\; LINE-HEIGHT: normal\; MARGIN: 0in 0in 0pt' class=MsoNormal align=center><SPAN style='FONT-FAMILY: 'Arial'\,'sans-serif'\; COLOR: #002060\; FONT-SIZE: 14pt\; mso-fareast-font-family: 'Times New Roman''><EM><FONT size=5></FONT></EM></SPAN>&nbsp\;</P><P style='TEXT-ALIGN: center\; LINE-HEIGHT: normal\; MARGIN: 0in 0in 0pt' class=MsoNormal align=center><SPAN style='FONT-FAMILY: 'Arial'\,'sans-serif'\; COLOR: #002060\; FONT-SIZE: 14pt\; mso-fareast-font-family: 'Times New Roman''><EM><FONT size=5>&nbsp\;&nbsp\;&nbsp\;&nbsp\; </FONT></EM></SPAN></P><P style='TEXT-ALIGN: center\; LINE-HEIGHT: normal\; MARGIN: 0in 0in 0pt' class=MsoNormal align=center><SPAN style='FONT-FAMILY: 'Arial'\,'sans-serif'\; COLOR: #002060\; FONT-SIZE: 14pt\; mso-fareast-font-family: 'Times New Roman''><EM><FONT size=5></FONT></EM></SPAN>&nbsp\;</P><P style='TEXT-ALIGN: center\; LINE-HEIGHT: normal\; MARGIN: 0in 0in 0pt' class=MsoNormal align=center><SPAN style='FONT-FAMILY: 'Arial'\,'sans-serif'\; COLOR: #002060\; FONT-SIZE: 14pt\; mso-fareast-font-family: 'Times New Roman''></SPAN><SPAN style='FONT-FAMILY: 'Arial'\,'sans-serif'\; COLOR: #002060\; FONT-SIZE: 14pt\; mso-fareast-font-family: 'Times New Roman''><o:p>&nbsp\;</o:p></SPAN></P><P style='TEXT-ALIGN: center\; LINE-HEIGHT: normal\; MARGIN: 0in 0in 0pt' class=MsoNormal align=center><SPAN style='FONT-FAMILY: 'Arial'\,'sans-serif'\; COLOR: #002060\; FONT-SIZE: 14pt\; mso-fareast-font-family: 'Times New Roman''>Please make your reservation early and contact the SBA offices at <SPAN style='mso-bidi-font-weight: bold'>847.413.1010&nbsp\;</SPAN></SPAN><SPAN style='FONT-FAMILY: 'Arial'\,'sans-serif'\; COLOR: #002060\; FONT-SIZE: 14pt\; mso-fareast-font-family: 'Times New Roman''><o:p>&nbsp\;</o:p></SPAN></P></DIV>
LOCATION:Chicago Improv of Schaumburg
UID:e.9129.304
SEQUENCE:3
DTSTAMP:20260423T021152Z
URL:http://schaumburgbusiness.memberzone.com/events/details/good-morning-schaumburg-annual-holiday-meeting-12-18-2012-304
END:VEVENT

END:VCALENDAR
