BEGIN:VCALENDAR
VERSION:2.0
PRODID:-//ChamberMaster//Event Calendar 2.0//EN
METHOD:PUBLISH
X-PUBLISHED-TTL:P3D
REFRESH-INTERVAL:P3D
CALSCALE:GREGORIAN
BEGIN:VEVENT
DTSTART:20100929T230000Z
DTEND:20100930T013000Z
X-MICROSOFT-CDO-ALLDAYEVENT:FALSE
SUMMARY:Hyroglyfyc Black Box Challenge
DESCRIPTION:Hello Creatives\,\n\nThis month our event is going to be held at Laugh Out Loud. Yes\, Improv! What does this mean this 'Improv' you may be asking in a slightly russian accent. It means that you are the show. Yes you. It's been forever a dream of yours to make it on the big stage and you have been dying for an opportunity like this. So we at Hyro say come on down and let your mind go! Not all the way because you still need to make it home and as always safety first.\n\nAs in March there are no Glyfy's awarded at this event. If you have never made it before we can't tell you why. You just need to be there.\n\nHowever everyone showing up gets a Hyro\, our real fake money used for real things.\n\nIn addition to this we will have food and drinks. \nCost for SBA members is $10 and non-members is $15.\n6p.m. is the new start time.\n\nWe are looking forward to seeing you all there!   Hyroglyfyc is a gathering meant to create and inspire.Through creative challenges in group settings\, Hyroglyfyc providesan atmosphere of spontaneous collaboration and unique relationship building.  Events are held at creative locations\, including:Apple Store\, Legoland\, Laugh Out Loud\, Directions AV\, and more. Questions Contact Hyroglyfyc Chair Ben Olsonat (630) 546-9117 or ben@3mastudios.com
X-ALT-DESC;FMTTYPE=text/html:<DIV style='FONT-FAMILY: Arial'><P style='TEXT-ALIGN: center\; LINE-HEIGHT: normal\; MARGIN: 0in 0in 0pt' class=MsoNormal align=center><SPAN style='FONT-FAMILY: 'Century Gothic'\,'sans-serif'\; mso-bidi-font-family: Arial'><o:p><FONT face=Arial><SPAN style='COLOR: #800000'>Hello Creatives\,<BR><BR>This month our event is going to be held at Laugh Out Loud. Yes\, Improv! What does this mean this 'Improv' you may be asking in a slightly russian accent. It means that you are the show. Yes you. It's been forever a dream of yours to make it on the big stage and you have been dying for an opportunity like this. So we at Hyro say come on down and let your mind go! Not all the way because you still need to make it home and as always safety first.<BR><BR>As in March there are no Glyfy's awarded at this event. If you have never made it before we can't tell you why. You just need to be there.<BR><BR>However everyone showing up gets a Hyro\, our real fake money used for real things.<BR></SPAN><BR></FONT><FONT face=Arial><SPAN style='COLOR: #800000'>In addition to this we will have food and drinks. <BR>Cost for SBA members is $10 and non-members is $15.<BR><STRONG>6p.m. is the new start time.</STRONG><BR><BR>We are looking forward to seeing you all there!</SPAN> </FONT></o:p></SPAN></P><P style='TEXT-ALIGN: center\; LINE-HEIGHT: normal\; MARGIN: 0in 0in 0pt' class=MsoNormal align=center><SPAN style='FONT-FAMILY: 'Century Gothic'\,'sans-serif'\; mso-bidi-font-family: Arial'><o:p></o:p></SPAN>&nbsp\;</P><P style='TEXT-ALIGN: center\; LINE-HEIGHT: normal\; MARGIN: 0in 0in 0pt' class=MsoNormal align=center><SPAN style='FONT-FAMILY: 'Century Gothic'\,'sans-serif'\; mso-bidi-font-family: Arial'><o:p>&nbsp\;</o:p></SPAN></P><P style='TEXT-ALIGN: center\; LINE-HEIGHT: normal\; MARGIN: 0in 0in 0pt' class=MsoNormal align=center><SPAN style='FONT-FAMILY: 'Century Gothic'\,'sans-serif'\; mso-bidi-font-family: Arial'>Hyroglyfyc is a gathering meant to create and inspire.<xml:namespace prefix = o ns = 'urn:schemas-microsoft-com:office:office' /><o:p></o:p></SPAN></P><P style='TEXT-ALIGN: center\; LINE-HEIGHT: normal\; MARGIN: 0in 0in 0pt' class=MsoNormal align=center><SPAN style='FONT-FAMILY: 'Century Gothic'\,'sans-serif'\; mso-bidi-font-family: Arial'>Through creative challenges in group settings\, Hyroglyfyc provides<o:p></o:p></SPAN></P><P style='TEXT-ALIGN: center\; LINE-HEIGHT: normal\; MARGIN: 0in 0in 0pt' class=MsoNormal align=center><SPAN style='FONT-FAMILY: 'Century Gothic'\,'sans-serif'\; mso-bidi-font-family: Arial'>an atmosphere of spontaneous collaboration and <B>unique relationship building</B>. <o:p></o:p></SPAN></P><P style='TEXT-ALIGN: center\; LINE-HEIGHT: normal\; MARGIN: 0in 0in 0pt' class=MsoNormal align=center><SPAN style='FONT-FAMILY: 'Century Gothic'\,'sans-serif'\; mso-bidi-font-family: Arial'><o:p>&nbsp\;</o:p></SPAN></P><P style='TEXT-ALIGN: center\; LINE-HEIGHT: normal\; MARGIN: 0in 0in 0pt' class=MsoNormal align=center><SPAN style='FONT-FAMILY: 'Century Gothic'\,'sans-serif'\; mso-bidi-font-family: Arial'>Events are held at creative locations\, including:<o:p></o:p></SPAN></P><P style='TEXT-ALIGN: center\; LINE-HEIGHT: normal\; MARGIN: 0in 0in 0pt' class=MsoNormal align=center><SPAN style='FONT-FAMILY: 'Century Gothic'\,'sans-serif'\; mso-bidi-font-family: Arial'>Apple Store\, Legoland\, Laugh Out Loud\, Directions AV\, and more.<o:p></o:p></SPAN></P><P style='TEXT-ALIGN: center\; LINE-HEIGHT: normal\; MARGIN: 0in 0in 0pt' class=MsoNormal align=center><SPAN style='FONT-FAMILY: 'Century Gothic'\,'sans-serif'\; mso-bidi-font-family: Arial'><o:p>&nbsp\;</o:p></SPAN></P><P style='TEXT-ALIGN: center\; LINE-HEIGHT: normal\; MARGIN: 0in 0in 0pt' class=MsoNormal align=center><SPAN style='FONT-FAMILY: 'Century Gothic'\,'sans-serif'\; mso-bidi-font-family: Arial'>Questions Contact Hyroglyfyc Chair Ben Olson<o:p></o:p></SPAN></P><P style='TEXT-ALIGN: center\; LINE-HEIGHT: normal\; MARGIN: 0in 0in 0pt' class=MsoNormal align=center><SPAN style='FONT-FAMILY: 'Century Gothic'\,'sans-serif'\; mso-bidi-font-family: Arial'>at (630) 546-9117 or <A href='mailto:ben@3mastudios.com'><FONT color=#0000ff>ben@3mastudios.com</FONT></A> <o:p></o:p></SPAN></P></DIV>
LOCATION:Laugh Out Loud
UID:e.9129.220
SEQUENCE:3
DTSTAMP:20260425T103820Z
URL:http://schaumburgbusiness.memberzone.com/events/details/hyroglyfyc-black-box-challenge-09-29-2010-220
END:VEVENT

END:VCALENDAR
