BEGIN:VCALENDAR
VERSION:2.0
PRODID:-//ChamberMaster//Event Calendar 2.0//EN
METHOD:PUBLISH
X-PUBLISHED-TTL:P3D
REFRESH-INTERVAL:P3D
CALSCALE:GREGORIAN
BEGIN:VEVENT
DTSTART:20141107T180000Z
DTEND:20141107T180000Z
X-MICROSOFT-CDO-ALLDAYEVENT:FALSE
SUMMARY:Ribbon Cutting - Floyd's 99 Barbershop
DESCRIPTION:Join us for a Ribbon Cutting as we welcome Floyd's 99 Barbershop to the Schaumburg community!\n\n\n\nComplimentary shampoos will be available the entire day.
X-ALT-DESC;FMTTYPE=text/html:Join us for a Ribbon Cutting as we welcome Floyd&#39\;s 99 Barbershop to the Schaumburg community!<br />\n<br />\nComplimentary shampoos will be available the entire day.
LOCATION:Floyd's 99 Barbershop 884 N. Meacham Road Schaumburg\, IL 60173
UID:e.9129.1689
SEQUENCE:3
DTSTAMP:20260421T035643Z
URL:http://schaumburgbusiness.memberzone.com/events/details/ribbon-cutting-floyd-s-99-barbershop-11-07-2014-1689
END:VEVENT

END:VCALENDAR
